BEGIN:VCALENDAR
VERSION:2.0
PRODID:-//ChamberMaster//Event Calendar 2.0//EN
METHOD:PUBLISH
X-PUBLISHED-TTL:P3D
REFRESH-INTERVAL:P3D
CALSCALE:GREGORIAN
BEGIN:VEVENT
DTSTART:20200301T190000Z
DTEND:20200301T200000Z
X-MICROSOFT-CDO-ALLDAYEVENT:FALSE
SUMMARY:'It Shoulda Been You'
DESCRIPTION:The Denison University Department of Theatre with collaboration from the Department of Music\, presents "It Shoulda Been You."\nEven at an ordinary wedding\, there's stress. But this is no ordinary wedding! After the sister of the bride accidentally dials the bride's ex-boyfriend's number\, he shows up and hilarity ensues.\n\n"It Shoulda Been You\," with music by Barbara Anselmi and book and lyrics by Brian Hargrove\, made Broadway both laugh and shed tears of joy during the 2015 season.\n\nPerformance Dates and Times are as follows:\n\n\n	\n	Thursday\, Feb. 27\, at 8 p.m.\n	\n	\n	Friday\, Feb. 28\, at 8 p.m.\n	\n	\n	Saturday\, Feb. 29\, at 2 p.m. and 8 p.m.\n	\n	\n	Sunday\, March 1\, at 2 p.m.
X-ALT-DESC;FMTTYPE=text/html:The Denison University Department of Theatre&nbsp\;with collaboration&nbsp\;from the Department of Music\, presents<span style="background-color:transparent\; color:rgb(0\, 0\, 0)\; font-family:arial\; font-size:11pt"> &rdquo\;It Shoulda Been You.&rdquo\;</span>\n<p><span style="background-color:transparent\; color:rgb(0\, 0\, 0)\; font-family:arial\; font-size:11pt">Even at an ordinary wedding\, there&rsquo\;s stress. But this is no ordinary wedding! After the sister of the bride accidentally dials the bride&rsquo\;s ex-boyfriend&rsquo\;s number\, he shows up and hilarity ensues.</span></p>\n\n<p><span style="background-color:transparent\; color:rgb(0\, 0\, 0)\; font-family:arial\; font-size:11pt">&ldquo\;It Shoulda Been You\,&rdquo\; with music by Barbara Anselmi and book and lyrics by Brian Hargrove\, made Broadway both laugh and shed tears of joy during the 2015 season.</span></p>\n\n<p><span style="background-color:transparent\; color:rgb(0\, 0\, 0)\; font-family:arial\; font-size:11pt">Performance Dates and Times are as follows:</span></p>\n\n<ul>\n	<li>\n	<p><span style="background-color:transparent\; font-size:11pt">Thursday\, Feb. 27\, at 8 p.m.</span></p>\n	</li>\n	<li>\n	<p><span style="background-color:transparent\; font-size:11pt">Friday\, Feb. 28\, at 8 p.m.</span></p>\n	</li>\n	<li>\n	<p><span style="background-color:transparent\; font-size:11pt">Saturday\, Feb. 29\, at 2 p.m. and 8 p.m.</span></p>\n	</li>\n	<li>\n	<p><span style="background-color:transparent\; font-size:11pt">Sunday\, March 1\, at 2 p.m.</span></p>\n	</li>\n</ul>\n<span style="background-color:transparent\; color:rgb(0\, 0\, 0)\; font-family:arial\; font-size:11pt"> </span>
LOCATION:Denison University Sharon Martin Hall Michael D. Eisner Center for the Performing Arts 240 West Broadway
UID:e.180.14059
SEQUENCE:3
DTSTAMP:20260422T141738Z
URL:https://business.granvilleoh.com/events/details/it-shoulda-been-you-03-01-2020-14059
END:VEVENT

END:VCALENDAR
