BEGIN:VCALENDAR
VERSION:2.0
PRODID:-//ChamberMaster//Event Calendar 2.0//EN
METHOD:PUBLISH
X-PUBLISHED-TTL:P3D
REFRESH-INTERVAL:P3D
CALSCALE:GREGORIAN
BEGIN:VEVENT
DTSTART:20200617T170000Z
DTEND:20200617T190000Z
X-MICROSOFT-CDO-ALLDAYEVENT:FALSE
SUMMARY:Jackbox Games
DESCRIPTION:Join us for party games using Jackbox and Zoom. We will email you a code to access the game and the Zoom meeting about an hour before the game. Exclusively for rising grades 7-12. Register for our 1pm or 2pm session at GranvilleLibrary.org/calendar/month.
X-ALT-DESC;FMTTYPE=text/html:Join us for party games using Jackbox and Zoom. We will email you a code to access the game and the Zoom meeting about an hour before the game. Exclusively for rising grades 7-12. Register for our 1pm or 2pm session at GranvilleLibrary.org/calendar/month.
LOCATION:Granville Public Library via Zoom
UID:e.180.14527
SEQUENCE:3
DTSTAMP:20260422T113446Z
URL:https://business.granvilleoh.com/events/details/jackbox-games-06-17-2020-14527
END:VEVENT

END:VCALENDAR
