BEGIN:VCALENDAR
VERSION:2.0
PRODID:-//ChamberMaster//Event Calendar 2.0//EN
METHOD:PUBLISH
X-PUBLISHED-TTL:P3D
REFRESH-INTERVAL:P3D
CALSCALE:GREGORIAN
BEGIN:VEVENT
DTSTART:20200923T200000Z
DTEND:20200923T210000Z
X-MICROSOFT-CDO-ALLDAYEVENT:FALSE
SUMMARY:Jackbox Games
DESCRIPTION:Join us for an hour of games like Quiplash\, Drawful\,  Murder Trivia Party\, Tee K.O. and more!  Space is limited!  For kids in grades 7-12!
X-ALT-DESC;FMTTYPE=text/html:Join us for an hour of games like Quiplash\, Drawful\,  Murder Trivia Party\, Tee K.O. and more!  Space is limited!  For kids in grades 7-12!
LOCATION:Granville Public Library
UID:e.180.14592
SEQUENCE:3
DTSTAMP:20260422T071709Z
URL:https://business.granvilleoh.com/events/details/jackbox-games-09-23-2020-14592
END:VEVENT

END:VCALENDAR
