BEGIN:VCALENDAR
VERSION:2.0
PRODID:-//ChamberMaster//Event Calendar 2.0//EN
METHOD:PUBLISH
X-PUBLISHED-TTL:P3D
REFRESH-INTERVAL:P3D
CALSCALE:GREGORIAN
BEGIN:VEVENT
DTSTART:20200701T170000Z
DTEND:20200701T190000Z
X-MICROSOFT-CDO-ALLDAYEVENT:FALSE
SUMMARY:Jackbox Games at 1 and 2pm
DESCRIPTION:Join us for party games using Jackbox and Zoom. We will email you a code to access the game and the Zoom meeting about an hour before the game. Register at GranvilleLibrary.org Exclusively for rising grades 7-12. Register for our Imagine Your Story Summer Library Program online or by downloading the Beanstack app to your phone. Earn chances to win through reading\, attending events\, and completing activities. Register at GranvilleLibrary.Beanstack.org.
X-ALT-DESC;FMTTYPE=text/html:Join us for party games using Jackbox and Zoom. We will email you a code to access the game and the Zoom meeting about an hour before the game. Register at GranvilleLibrary.org Exclusively for rising grades 7-12. Register for our Imagine Your Story Summer Library Program online or by downloading the Beanstack app to your phone. Earn chances to win through reading\, attending events\, and completing activities. Register at GranvilleLibrary.Beanstack.org.
LOCATION:Granville Public Library via Zoom
UID:e.180.14555
SEQUENCE:3
DTSTAMP:20260422T090741Z
URL:https://business.granvilleoh.com/events/details/jackbox-games-at-1-and-2pm-14555
END:VEVENT

END:VCALENDAR
