BEGIN:VCALENDAR
VERSION:2.0
PRODID:-//ChamberMaster//Event Calendar 2.0//EN
METHOD:PUBLISH
X-PUBLISHED-TTL:P3D
REFRESH-INTERVAL:P3D
CALSCALE:GREGORIAN
BEGIN:VEVENT
DTSTART:20201118T210000Z
DTEND:20201118T220000Z
X-MICROSOFT-CDO-ALLDAYEVENT:FALSE
SUMMARY:Jackbox Games (Teens)
DESCRIPTION:Join us for an hour of games like Quiplash\, Drawful\, Murder Trivia Party\, Tee K.O. and more! Space is limited! For kids in grades 7-12! Registration required. You will be emailed a Zoom link about an hour before the start of the program. Register at GranvilleLibrary.org/calendar/month
X-ALT-DESC;FMTTYPE=text/html:Join us for an hour of games like Quiplash\, Drawful\, Murder Trivia Party\, Tee K.O. and more! Space is limited! For kids in grades 7-12! Registration required. You will be emailed a Zoom link about an hour before the start of the program. Register at GranvilleLibrary.org/calendar/month
LOCATION:Granville Public Library via Zoom
UID:e.180.14672
SEQUENCE:3
DTSTAMP:20260422T043932Z
URL:https://business.granvilleoh.com/events/details/jackbox-games-teens-11-18-2020-14672
END:VEVENT

END:VCALENDAR
