BEGIN:VCALENDAR
VERSION:2.0
PRODID:-//ChamberMaster//Event Calendar 2.0//EN
METHOD:PUBLISH
X-PUBLISHED-TTL:P3D
REFRESH-INTERVAL:P3D
CALSCALE:GREGORIAN
BEGIN:VEVENT
DTSTART:20200115T163000Z
DTEND:20200115T180000Z
X-MICROSOFT-CDO-ALLDAYEVENT:FALSE
SUMMARY:January Member Meeting & Luncheon - sponsored by the Bryn Du Commission
DESCRIPTION:Please join us for our January Member Meeting & Luncheon during which we will provide a "State of the Chamber" talk which will recap elements of the year 2019 and provide overview and insight into plans and objectives for 2020.  We will also hear exciting details about a new "Friends of Bryn Du" program being offered by the Bryn Du Commission.
X-ALT-DESC;FMTTYPE=text/html:Please join us for our January Member Meeting &amp\; Luncheon during which we will provide a &quot\;State of the Chamber&quot\; talk which will recap elements of the year 2019 and provide overview and insight into plans and objectives for 2020.&nbsp\; We will also hear exciting details about a new &quot\;Friends of Bryn Du&quot\; program being offered by the Bryn Du Commission.
LOCATION:Bryn Du Mansion 537 Jones Road Granville\, OH 43023
UID:e.180.14009
SEQUENCE:3
DTSTAMP:20260422T171514Z
URL:https://business.granvilleoh.com/events/details/january-member-meeting-luncheon-sponsored-by-the-bryn-du-commission-14009
END:VEVENT

END:VCALENDAR
