BEGIN:VCALENDAR
VERSION:2.0
PRODID:-//ChamberMaster//Event Calendar 2.0//EN
METHOD:PUBLISH
X-PUBLISHED-TTL:P3D
REFRESH-INTERVAL:P3D
CALSCALE:GREGORIAN
BEGIN:VEVENT
DTSTART:20210706T180000Z
DTEND:20210706T220000Z
X-MICROSOFT-CDO-ALLDAYEVENT:FALSE
SUMMARY:Job Fair - Hiring All Positions!
DESCRIPTION:Don't wait for a call back! Join us on Tuesday July 6th from 2pm-6pm for on-the-spot interviews. We're looking for servers\, bartenders\, bar backs\, cooks\, dishwashers and more! We will include a $300 hiring bonus. Can't make it to the job fair? Make sure you visit our listings online https://bit.ly/WorkForCVH
X-ALT-DESC;FMTTYPE=text/html:<span style="color:rgb(5\, 5\, 5)\; font-family:segoe ui historic\,segoe ui\,helvetica\,arial\,sans-serif\; font-size:15px">Don&rsquo\;t wait for a call back! Join us on Tuesday July 6th from 2pm-6pm for on-the-spot interviews. We&rsquo\;re looking for servers\, bartenders\, bar backs\, cooks\, dishwashers and more! We will include a $300 hiring bonus. Can&#39\;t make it to the job fair? Make sure you visit our listings online&nbsp\;</span><a class="oajrlxb2 g5ia77u1 qu0x051f esr5mh6w e9989ue4 r7d6kgcz rq0escxv nhd2j8a9 nc684nl6 p7hjln8o kvgmc6g5 cxmmr5t8 oygrvhab hcukyx3x jb3vyjys rz4wbd8a qt6c0cv9 a8nywdso i1ao9s8h esuyzwwr f1sip0of lzcic4wl py34i1dx gpro0wi8" href="https://bit.ly/WorkForCVH?fbclid=IwAR1nKiHaS4jmtT-5N9D1MQij1OCyYDTYhYAgkJ1xDtclaIZinAyX8mX3_cI" rel="nofollow noopener" style="color: var(--blue-link)\; cursor: pointer\; text-decoration-line: none\; outline: none\; list-style: none\; border-width: 0px\; border-style: initial\; border-color: initial\; padding: 0px\; margin: 0px\; touch-action: manipulation\; display: inline\; -webkit-tap-highlight-color: transparent\; box-sizing: border-box\; font-family: &quot\;Segoe UI Historic&quot\;\, &quot\;Segoe UI&quot\;\, Helvetica\, Arial\, sans-serif\; font-size: 15px\;" tabindex="0" target="_blank">https://bit.ly/WorkForCVH</a><span style="color:rgb(5\, 5\, 5)\; font-family:segoe ui historic\,segoe ui\,helvetica\,arial\,sans-serif\; font-size:15px">&nbsp\;</span>
LOCATION:Cherry Valley Hotel 2299 Cherry Valley Road SE Newark\, OH 43055
UID:e.180.16021
SEQUENCE:3
DTSTAMP:20260421T163207Z
URL:https://business.granvilleoh.com/events/details/job-fair-hiring-all-positions-16021
END:VEVENT

END:VCALENDAR
