BEGIN:VCALENDAR
VERSION:2.0
PRODID:-//ChamberMaster//Event Calendar 2.0//EN
METHOD:PUBLISH
X-PUBLISHED-TTL:P3D
REFRESH-INTERVAL:P3D
CALSCALE:GREGORIAN
BEGIN:VEVENT
DTSTART:20210615T180000Z
DTEND:20210615T190000Z
X-MICROSOFT-CDO-ALLDAYEVENT:FALSE
SUMMARY:Joyce Sidman: Word Box Poetry on Zoom
DESCRIPTION:Newbery Honor-winning author Joyce Sidman will guide participants as they write an animal poem based on four vivid words. Rising Grades 4 to 6. Register at GranvilleLibrary.org/calendar/month Register to receive Zoom login the day of the program.
X-ALT-DESC;FMTTYPE=text/html:Newbery Honor-winning author Joyce Sidman will guide participants as they write an animal poem based on four vivid words. Rising Grades 4 to 6. Register at GranvilleLibrary.org/calendar/month Register to receive Zoom login the day of the program.
LOCATION:Granville Public Library via Zoom
UID:e.180.14806
SEQUENCE:3
DTSTAMP:20260421T180038Z
URL:https://business.granvilleoh.com/events/details/joyce-sidman-word-box-poetry-on-zoom-14806
END:VEVENT

END:VCALENDAR
