BEGIN:VCALENDAR
VERSION:2.0
PRODID:-//ChamberMaster//Event Calendar 2.0//EN
METHOD:PUBLISH
X-PUBLISHED-TTL:P3D
REFRESH-INTERVAL:P3D
CALSCALE:GREGORIAN
BEGIN:VEVENT
DTSTART:20210401T170000Z
DTEND:20210401T174500Z
X-MICROSOFT-CDO-ALLDAYEVENT:FALSE
SUMMARY:Julius Caesar: Beware the Ides of March of the Penguins! on Zoom
DESCRIPTION:oin Shakespeare for some interactive silliness as the Bard coaches volunteers from the audience to recite lines from his famous play about the fall of the dictator of Rome\, Gaius Julius Caesar. Register with an email address to receive a Zoom login about an hour before the program. Register at GranvilleLibrary.org/calendar/month Grades K to 6
X-ALT-DESC;FMTTYPE=text/html:oin Shakespeare for some interactive silliness as the Bard coaches volunteers from the audience to recite lines from his famous play about the fall of the dictator of Rome\, Gaius Julius Caesar. Register with an email address to receive a Zoom login about an hour before the program. Register at GranvilleLibrary.org/calendar/month Grades K to 6
LOCATION:Granville Public Library via Zoom
UID:e.180.14764
SEQUENCE:3
DTSTAMP:20260421T205017Z
URL:https://business.granvilleoh.com/events/details/julius-caesar-beware-the-ides-of-march-of-the-penguins-on-zoom-14764
END:VEVENT

END:VCALENDAR
