BEGIN:VCALENDAR
VERSION:2.0
PRODID:-//ChamberMaster//Event Calendar 2.0//EN
METHOD:PUBLISH
X-PUBLISHED-TTL:P3D
REFRESH-INTERVAL:P3D
CALSCALE:GREGORIAN
BEGIN:VEVENT
DTSTART;VALUE=DATE:20210705
DTEND;VALUE=DATE:20210706
TRANSP:TRANSPARENT
X-MICROSOFT-CDO-ALLDAYEVENT:TRUE
SUMMARY:July 4th Celebration! - brought to you by Kiwanis Club of Granville
DESCRIPTION:Annual 4th of July Celebration brought to you by Kiwanis Club of Granville.\n\n            Visit www.Granville4th.com for specific event details \n\n                           Mile Long Parade  -  10:45 am
X-ALT-DESC;FMTTYPE=text/html:Annual 4th of July Celebration brought to you by Kiwanis Club of Granville.<br />\n&nbsp\;&nbsp\;&nbsp\;&nbsp\;&nbsp\;&nbsp\;&nbsp\;&nbsp\;&nbsp\;&nbsp\;&nbsp\;&nbsp\;Visit <strong>www.Granville4th.com</strong> for specific event details&nbsp\;<br />\n&nbsp\; &nbsp\; &nbsp\;&nbsp\;&nbsp\;&nbsp\;&nbsp\;&nbsp\;&nbsp\;&nbsp\;&nbsp\;&nbsp\;&nbsp\;&nbsp\;&nbsp\;&nbsp\;&nbsp\;&nbsp\;&nbsp\;&nbsp\;&nbsp\;&nbsp\;&nbsp\; &nbsp\;Mile Long Parade&nbsp\; -&nbsp\; 10:45 am<br />\n&nbsp\;
LOCATION:
UID:e.180.14785
SEQUENCE:3
DTSTAMP:20260421T163658Z
URL:https://business.granvilleoh.com/events/details/july-4th-celebration-brought-to-you-by-kiwanis-club-of-granville-14785
END:VEVENT

END:VCALENDAR
