BEGIN:VCALENDAR
VERSION:2.0
PRODID:-//ChamberMaster//Event Calendar 2.0//EN
METHOD:PUBLISH
X-PUBLISHED-TTL:P3D
REFRESH-INTERVAL:P3D
CALSCALE:GREGORIAN
BEGIN:VEVENT
DTSTART:20211116T003000Z
DTEND:20211116T013000Z
X-MICROSOFT-CDO-ALLDAYEVENT:FALSE
SUMMARY:Junior Recital: Ellie Blasko on piano
DESCRIPTION:The Department of Music welcomes Ellie Blasko '23 presenting her junior recital on piano with works by J.S. Bach\, Fr d ric Chopin\, and George Gershwin.
X-ALT-DESC;FMTTYPE=text/html:<span style="color:rgb(34\, 34\, 34)\; font-family:arial\,helvetica\,sans-serif\; font-size:small">The Department of Music welcomes Ellie Blasko &lsquo\;23 presenting her junior recital on piano with works by J.S. Bach\, Fr&eacute\;d&eacute\;ric Chopin\, and George Gershwin.</span><br />\n&nbsp\;
LOCATION:Michael D. Eisner Center for the Performing Arts - Burke Recital Hall 240 W Broadway Granville
UID:e.180.16119
SEQUENCE:3
DTSTAMP:20260421T111923Z
URL:https://business.granvilleoh.com/events/details/junior-recital-ellie-blasko-on-piano-16119
END:VEVENT

END:VCALENDAR
