BEGIN:VCALENDAR
VERSION:2.0
PRODID:-//ChamberMaster//Event Calendar 2.0//EN
METHOD:PUBLISH
X-PUBLISHED-TTL:P3D
REFRESH-INTERVAL:P3D
CALSCALE:GREGORIAN
BEGIN:VEVENT
DTSTART:20210128T230000Z
DTEND:20210129T010000Z
X-MICROSOFT-CDO-ALLDAYEVENT:FALSE
SUMMARY:Knit-A-Long Owl
DESCRIPTION:Join us to knit Seamus the Owl! You supply the US size 6/4 mm double-pointed knitting needles\, a yarn needle\, and scissors. We'll supply the rest! For teens and adults. Prior knitting experience required. Register at GranvilleLibrary.org/calendar/month
X-ALT-DESC;FMTTYPE=text/html:Join us to knit Seamus the Owl! You supply the US size 6/4 mm double-pointed knitting needles\, a yarn needle\, and scissors. We&#39\;ll supply the rest! For teens and adults. Prior knitting experience required. Register at GranvilleLibrary.org/calendar/month
LOCATION:Granville Public Library via Zoom
UID:e.180.14714
SEQUENCE:3
DTSTAMP:20260422T003918Z
URL:https://business.granvilleoh.com/events/details/knit-a-long-owl-14714
END:VEVENT

END:VCALENDAR
