BEGIN:VCALENDAR
VERSION:2.0
PRODID:-//ChamberMaster//Event Calendar 2.0//EN
METHOD:PUBLISH
X-PUBLISHED-TTL:P3D
REFRESH-INTERVAL:P3D
CALSCALE:GREGORIAN
BEGIN:VEVENT
DTSTART:20201006T220000Z
DTEND:20201007T000000Z
X-MICROSOFT-CDO-ALLDAYEVENT:FALSE
SUMMARY:Knit-a-long Pumpkin
DESCRIPTION:Adults & Teens- join us on Zoom to knit a gourd-geous little pumpkin. We'll supply the yarn and stuffing\, you supply the size 2 double pointed needles\, a yarn needle and scissors. We will start the pumpkin on Tuesday and do our best to finish on Wednesday. Basic knitting skills required. Adults and teens in grades 7-12. Registration required at Granvillelibrary.org/calendar/month
X-ALT-DESC;FMTTYPE=text/html:Adults &amp\; Teens- join us on Zoom to knit a gourd-geous little pumpkin. We&#39\;ll supply the yarn and stuffing\, you supply the size 2 double pointed needles\, a yarn needle and scissors. We will start the pumpkin on Tuesday and do our best to finish on Wednesday. Basic knitting skills required. Adults and teens in grades 7-12. Registration required at Granvillelibrary.org/calendar/month
LOCATION:Granville Public Library via Zoom
UID:e.180.14602
SEQUENCE:3
DTSTAMP:20260422T043903Z
URL:https://business.granvilleoh.com/events/details/knit-a-long-pumpkin-14602
END:VEVENT

END:VCALENDAR
