BEGIN:VCALENDAR
VERSION:2.0
PRODID:-//ChamberMaster//Event Calendar 2.0//EN
METHOD:PUBLISH
X-PUBLISHED-TTL:P3D
REFRESH-INTERVAL:P3D
CALSCALE:GREGORIAN
BEGIN:VEVENT
DTSTART:20211007T220000Z
DTEND:20211008T000000Z
X-MICROSOFT-CDO-ALLDAYEVENT:FALSE
SUMMARY:Knitted Knockers Make-a-Long
DESCRIPTION:October is breast cancer awareness month! We're teaming up with Licking Memorial Hospital to create soft\, comfortable\, knit prosthetics for breast cancer survivors\, We'll provide the materials you need to knit or crochet a knitted knocker to donate for distribution to Licking Memorial patients. Basic knitting skills required. Teens and adults welcome!
X-ALT-DESC;FMTTYPE=text/html:October is breast cancer awareness month! We&#39\;re teaming up with Licking Memorial Hospital to create soft\, comfortable\, knit prosthetics for breast cancer survivors\, We&#39\;ll provide the materials you need to knit or crochet a knitted knocker to donate for distribution to Licking Memorial patients. Basic knitting skills required. Teens and adults welcome!
LOCATION:Granville Public Library
UID:e.180.16077
SEQUENCE:3
DTSTAMP:20260421T124730Z
URL:https://business.granvilleoh.com/events/details/knitted-knockers-make-a-long-16077
END:VEVENT

END:VCALENDAR
