BEGIN:VCALENDAR
VERSION:2.0
PRODID:-//ChamberMaster//Event Calendar 2.0//EN
METHOD:PUBLISH
X-PUBLISHED-TTL:P3D
REFRESH-INTERVAL:P3D
CALSCALE:GREGORIAN
BEGIN:VEVENT
DTSTART:20201120T230000Z
DTEND:20201121T000000Z
X-MICROSOFT-CDO-ALLDAYEVENT:FALSE
SUMMARY:Know-It-All Teen Trivia on Zoom
DESCRIPTION:Will you be the champion of random knowledge? We'll gather on Zoom\, then join in on a Kahoot trivia challenge! You must be able to access both Zoom & Kahoot simultaneously - either via a second device or opening a second browser window side-by-side on your computer. For grades 7-12. Registration required. You will be emailed a Zoom link about an hour before the start of the program. Register at GranvilleLibrary.org/calendar/month
X-ALT-DESC;FMTTYPE=text/html:Will you be the champion of random knowledge? We&#39\;ll gather on Zoom\, then join in on a Kahoot trivia challenge! You must be able to access both Zoom &amp\; Kahoot simultaneously - either via a second device or opening a second browser window side-by-side on your computer. For grades 7-12. Registration required. You will be emailed a Zoom link about an hour before the start of the program. Register at GranvilleLibrary.org/calendar/month
LOCATION:Granville Public Library via Zoom
UID:e.180.14675
SEQUENCE:3
DTSTAMP:20260422T045540Z
URL:https://business.granvilleoh.com/events/details/know-it-all-teen-trivia-on-zoom-14675
END:VEVENT

END:VCALENDAR
