BEGIN:VCALENDAR
VERSION:2.0
PRODID:-//ChamberMaster//Event Calendar 2.0//EN
METHOD:PUBLISH
X-PUBLISHED-TTL:P3D
REFRESH-INTERVAL:P3D
CALSCALE:GREGORIAN
BEGIN:VEVENT
DTSTART:20210421T153000Z
DTEND:20210421T170000Z
X-MICROSOFT-CDO-ALLDAYEVENT:FALSE
SUMMARY:Kussmaul Award Presentation and Monthly Member Meeting/Luncheon
DESCRIPTION:Presenting the Kussmaul Award\n\nOur April Membership Meeting and Luncheon features the annual Kussmaul Award Presentation recognizing the Denison student who best exemplifies friendly relations between Granville and the University.  Professor and accomplished author\, Margot Singer\, will provide remarks around the importance of the arts to Denison and the local community. \n\n\n\nSince 1947\, the Louis Kussmaul Friendship Award  jointly presented by Denison University and the Granville Area Chamber of Commerce has been given annually to the Denison University student (traditionally a senior) who has contributed the most to building friendly relations between Denison and the Granville community. The Award honors the memory of Louis Kussmaul\, a Granville printer who worked for his brother William H. Kussmaul\, publisher of the Granville Times from 1890 to 1899. This is a formal recognition of those who have given of themselves to the greater community during their Denison years. A $300 prize is awarded the winning nominee. Traditionally this honor and monetary award is presented to a deserving senior Denison student during the Chamber's April Member Meeting. \n\n\n\nWe hope you will join us in this celebration at our next member meeting on April 21\, 11:30am - 1:00pm.
X-ALT-DESC;FMTTYPE=text/html:<h1>Presenting the Kussmaul Award</h1>\n\n<p>Our April Membership Meeting and Luncheon features the annual Kussmaul Award Presentation recognizing the Denison student who best exemplifies friendly relations between Granville and the University.&nbsp\; Professor and accomplished author\, Margot Singer\, will provide remarks around the importance of the arts to Denison and the local community.&nbsp\;<br />\n<br />\nSince 1947\, the Louis&nbsp\;Kussmaul&nbsp\;Friendship Award &mdash\;jointly presented by Denison University and the Granville Area Chamber of Commerce&mdash\;has been given annually to the Denison University student (traditionally a senior) who has contributed the most to building friendly relations between Denison and the Granville community.&nbsp\;The Award honors the memory of Louis&nbsp\;Kussmaul\, a Granville printer who worked for his brother William H.&nbsp\;Kussmaul\, publisher of the&nbsp\;Granville Times&nbsp\;from 1890 to 1899.&nbsp\;This is a formal recognition of those who have given of themselves to the greater community during their Denison years.&nbsp\;A $300 prize is awarded the winning nominee.&nbsp\;Traditionally this honor and monetary award is presented to a deserving senior Denison student during the Chamber&rsquo\;s April Member Meeting.&nbsp\;<br />\n<br />\nWe hope you will join us in this celebration at our next member meeting on April 21\, 11:30am - 1:00pm.</p>\n
LOCATION:Virtually\, a Zoom link will be sent within 24 hours of the event.
UID:e.180.14773
SEQUENCE:3
DTSTAMP:20260421T204356Z
URL:https://business.granvilleoh.com/events/details/kussmaul-award-presentation-and-monthly-member-meeting-luncheon-14773
END:VEVENT

END:VCALENDAR
