BEGIN:VCALENDAR
VERSION:2.0
PRODID:-//ChamberMaster//Event Calendar 2.0//EN
METHOD:PUBLISH
X-PUBLISHED-TTL:P3D
REFRESH-INTERVAL:P3D
CALSCALE:GREGORIAN
BEGIN:VEVENT
DTSTART:20201001T210000Z
DTEND:20201001T223000Z
X-MICROSOFT-CDO-ALLDAYEVENT:FALSE
SUMMARY:Latinx Studies and Digital Humanities Workshop\, Featuring Professor Isis Campos
DESCRIPTION:Denison University welcomes the Laura C. Harris Scholar-in-Residence Isis Campos. Campos studied in the Hispanic Studies department at the University of Houston. Her research focuses on U.S. Latino literature\, specifically examining the rise and development of Central American women's identities and subjectivity in the U.S. through their representation in literature. Additionally\, she was an Inter-University Program for Latino Research/Mellon Fellow from University of Chicago Illinois for 2019-2020\, a research fellow at Recovering the US Hispanic Literary Heritage Program at Arte P blico Press from 2016 to 2019 and a HASTAC (Humanities\, Arts\, Science and Technology Advanced Collaboratory) scholar 2018-2020 involved in the development of US Latina/o Digital Humanities projects.\n\nThe focus of this workshop will be Network Analysis\, a data visualization web tool that examines the relationships within a dataset. There will be a brief overview of Digital Humanities with a presentation on Network Analysis\, followed by a virtual hands-on activity. Attendees are encouraged to have access to their own computers in order for all participants to work simultaneously.
X-ALT-DESC;FMTTYPE=text/html:<p>Denison University welcomes the Laura C. Harris Scholar-in-Residence Isis Campos. Campos studied in the Hispanic Studies department at the University of Houston. Her research focuses on U.S. Latino literature\, specifically examining the rise and development of Central American women&rsquo\;s identities and subjectivity in the U.S. through their representation in literature. Additionally\, she was an Inter-University Program for Latino Research/Mellon Fellow from University of Chicago Illinois for 2019-2020\, a research fellow at Recovering the US Hispanic Literary Heritage Program at Arte P&uacute\;blico Press from 2016 to 2019 and a HASTAC (Humanities\, Arts\, Science and Technology Advanced Collaboratory) scholar 2018-2020 involved in the development of US Latina/o Digital Humanities projects.</p>\n\n<p>The focus of this workshop will be Network Analysis\, a data visualization web tool that examines the relationships within a dataset. There will be a brief overview of Digital Humanities with a presentation on Network Analysis\, followed by a virtual hands-on activity. Attendees are encouraged to have access to their own computers in order for all participants to work simultaneously.<br />\n<br />\n&nbsp\;</p>\n
LOCATION:Virtual
UID:e.180.14633
SEQUENCE:3
DTSTAMP:20260422T044651Z
URL:https://business.granvilleoh.com/events/details/latinx-studies-and-digital-humanities-workshop-featuring-professor-isis-campos-14633
END:VEVENT

END:VCALENDAR
