BEGIN:VCALENDAR
VERSION:2.0
PRODID:-//ChamberMaster//Event Calendar 2.0//EN
METHOD:PUBLISH
X-PUBLISHED-TTL:P3D
REFRESH-INTERVAL:P3D
CALSCALE:GREGORIAN
BEGIN:VEVENT
DTSTART:20200306T000000Z
DTEND:20200306T013000Z
X-MICROSOFT-CDO-ALLDAYEVENT:FALSE
SUMMARY:Launch: It's Not About Your Product
DESCRIPTION:Most businesses start out focusing on their product\, and they're missing the real opportunity ... focusing on the experience. We'll dive into design thinking with a hands-on workshop to let you practice\, and you'll walk out ready to think very differently about your business or organization. Steve Krak is the Red Frame Lab Coordinator at Denison University\, an entrepreneurship and design thinking resource for students\, faculty\, and staff. Steve's career has embraced design processes through 25 years of research and development at Battelle\, 6 years in international k12 education consulting\, and 2.5 years at Denison.
X-ALT-DESC;FMTTYPE=text/html:Most businesses start out focusing on their product\, and they&#39\;re missing the real opportunity ... focusing on the experience. We&#39\;ll dive into design thinking with a hands-on workshop to let you practice\, and you&#39\;ll walk out ready to think very differently about your business or organization. Steve Krak is the Red Frame Lab Coordinator at Denison University\, an entrepreneurship and design thinking resource for students\, faculty\, and staff. Steve&#39\;s career has embraced design processes through 25 years of research and development at Battelle\, 6 years in international k12 education consulting\, and 2.5 years at Denison.
LOCATION:Granville Public Library
UID:e.180.14289
SEQUENCE:3
DTSTAMP:20260422T141838Z
URL:https://business.granvilleoh.com/events/details/launch-it-s-not-about-your-product-14289
END:VEVENT

END:VCALENDAR
