BEGIN:VCALENDAR
VERSION:2.0
PRODID:-//ChamberMaster//Event Calendar 2.0//EN
METHOD:PUBLISH
X-PUBLISHED-TTL:P3D
REFRESH-INTERVAL:P3D
CALSCALE:GREGORIAN
BEGIN:VEVENT
DTSTART:20200207T000000Z
DTEND:20200207T010000Z
X-MICROSOFT-CDO-ALLDAYEVENT:FALSE
SUMMARY:Launch: Legal Issues of Starting a New Business
DESCRIPTION:If you're thinking about starting a business but aren't sure how to proceed\, join us for an informational talk with attorney Lee Heckman of Reese Pyle Meyer PLL. Learn about the legal issues associated with a beginning a new business venture.
X-ALT-DESC;FMTTYPE=text/html:If you&#39\;re thinking about starting a business but aren&#39\;t sure how to proceed\, join us for an informational talk with attorney Lee Heckman of Reese Pyle Meyer PLL. Learn about the legal issues associated with a beginning a new business venture.
LOCATION:Granville Public Library
UID:e.180.14038
SEQUENCE:3
DTSTAMP:20260422T171352Z
URL:https://business.granvilleoh.com/events/details/launch-legal-issues-of-starting-a-new-business-14038
END:VEVENT

END:VCALENDAR
