BEGIN:VCALENDAR
VERSION:2.0
PRODID:-//ChamberMaster//Event Calendar 2.0//EN
METHOD:PUBLISH
X-PUBLISHED-TTL:P3D
REFRESH-INTERVAL:P3D
CALSCALE:GREGORIAN
BEGIN:VEVENT
DTSTART:20200205T000000Z
DTEND:20200205T010000Z
X-MICROSOFT-CDO-ALLDAYEVENT:FALSE
SUMMARY:Laura C. Harris Series: Elena Conis
DESCRIPTION:Denison University's Laura C. Harris Series welcomes Elena Conis\, a professor in the Graduate School of Journalism and the Center for Science\, Technology\, Medicine and Society at the University of California\, Berkeley.\nConis also directs the joint graduate program in Journalism and Public Health at the University of California\, Berkeley. A former journalist\, award-winning columnist\, and historian\, she studies how culture\, values\, politics\, and media have shaped modern American medicine\, public health\, and environmentalism over time\, and how scientific ideas about health and medicine are communicated to and received by the public in the present. Her book "Vaccine Nation: America's Changing Relationship with Immunization" received the 2015 Arthur J. Viseltear Award from the American Public Health Association. Her research has been supported by grants and awards from the National Institutes of Health\, the National Endowment for the Humanities\, the Science History Institute\, UCLA's Charles Donald O'Malley Research Fellowship\, and Emory University\, where she was previously a Mellon Foundation Faculty Fellow in Health and the Humanities and a faculty member in the Department of History.
X-ALT-DESC;FMTTYPE=text/html:<span style="background-color:transparent\; color:rgb(0\, 0\, 0)\; font-family:arial\; font-size:11pt">Denison University&rsquo\;s Laura C. Harris Series welcomes Elena Conis\, a professor in the Graduate School of Journalism and the Center for Science\, Technology\, Medicine and Society at the University of California\, Berkeley.</span>\n<p><span style="background-color:transparent\; color:rgb(0\, 0\, 0)\; font-family:arial\; font-size:11pt">Conis also directs the joint graduate program in Journalism and Public Health at the University of California\, Berkeley. A former journalist\, award-winning columnist\, and historian\, she studies how culture\, values\, politics\, and media have shaped modern American medicine\, public health\, and environmentalism over time\, and how scientific ideas about health and medicine are communicated to and received by the public in the present. Her book &quot\;Vaccine Nation: America&#39\;s Changing Relationship with Immunization&quot\; received the 2015 Arthur J. Viseltear Award from the American Public Health Association. Her research has been supported by grants and awards from the National Institutes of Health\, the National Endowment for the Humanities\, the Science History Institute\, UCLA&#39\;s Charles Donald O&#39\;Malley Research Fellowship\, and Emory University\, where she was previously a Mellon Foundation Faculty Fellow in Health and the Humanities and a faculty member in the Department of History.</span></p>\n<br />\n&nbsp\;
LOCATION:Denison University Room 115 of the Burton D. Morgan Center 150 Ridge Road
UID:e.180.13978
SEQUENCE:3
DTSTAMP:20260422T155102Z
URL:https://business.granvilleoh.com/events/details/laura-c-harris-series-elena-conis-13978
END:VEVENT

END:VCALENDAR
