BEGIN:VCALENDAR
VERSION:2.0
PRODID:-//ChamberMaster//Event Calendar 2.0//EN
METHOD:PUBLISH
X-PUBLISHED-TTL:P3D
REFRESH-INTERVAL:P3D
CALSCALE:GREGORIAN
BEGIN:VEVENT
DTSTART:20201112T220000Z
DTEND:20201112T233000Z
X-MICROSOFT-CDO-ALLDAYEVENT:FALSE
SUMMARY:Laura C. Harris Series Faculty Research Spotlight Featuring Hanne Blank
DESCRIPTION:Denison University's Laura C. Harris Series Faculty Research Spotlight features Visiting Assistant Professor of Women's and Gender Studies Hanne Blank discussing her new book "Fat." \n\nBlank's new book\, "Fat" part of the Object Lessons series\, "an essay and book series about the hidden lives of ordinary things." Isis Campos will serve as discussant.\n\nLimited paperback copies available upon request before October 12. \n\nRegistration is required.\n\nRegister at https://denison.zoom.us/meeting/register/tJMpd-CvrzkoHdesI3x5uXAV5VsTxcS_jY7u.
X-ALT-DESC;FMTTYPE=text/html:<p><span style="background-color:transparent\; color:rgb(0\, 0\, 0)\; font-family:arial\; font-size:11pt">Denison University&#39\;s Laura C. Harris Series Faculty Research Spotlight features Visiting Assistant Professor of Women&rsquo\;s and Gender Studies Hanne Blank discussing her new book &ldquo\;Fat.&rdquo\;&nbsp\;</span></p>\n\n<p><span style="background-color:transparent\; color:rgb(0\, 0\, 0)\; font-family:arial\; font-size:11pt">Blank&#39\;s new book\, &ldquo\;Fat&rdquo\; part of the Object Lessons series\, &quot\;an essay and book series about the hidden lives of ordinary things.&quot\; Isis Campos will serve as discussant.</span></p>\n\n<p><span style="background-color:transparent\; color:rgb(0\, 0\, 0)\; font-family:arial\; font-size:11pt">Limited </span><a href="https://docs.google.com/forms/d/e/1FAIpQLSf8iZ41a0yHc7TxGc0W50IMqYsTPu9fyE8RnwGshBPAP8Dr9Q/viewform?gxids=7628" style="text-decoration-line: none\;"><span style="background-color:transparent\; color:rgb(162\, 2\, 35)\; font-family:arial\; font-size:11pt">paperback copies available upon request before October 12</span></a><span style="background-color:transparent\; color:rgb(0\, 0\, 0)\; font-family:arial\; font-size:11pt">.&nbsp\;</span></p>\n\n<p><span style="background-color:transparent\; color:rgb(0\, 0\, 0)\; font-family:arial\; font-size:11pt">Registration is required.<br />\nRegister at&nbsp\;</span><a href="https://denison.zoom.us/meeting/register/tJMpd-CvrzkoHdesI3x5uXAV5VsTxcS_jY7u" style="text-decoration-line: none\;"><span style="background-color:transparent\; color:rgb(17\, 85\, 204)\; font-family:arial\; font-size:11pt">https://denison.zoom.us/meeting/register/tJMpd-CvrzkoHdesI3x5uXAV5VsTxcS_jY7u</span></a><span style="background-color:transparent\; color:rgb(0\, 0\, 0)\; font-family:arial\; font-size:11pt">.</span></p>\n\n<div>&nbsp\;</div>\n
LOCATION:Virtual
UID:e.180.14635
SEQUENCE:3
DTSTAMP:20260422T033317Z
URL:https://business.granvilleoh.com/events/details/laura-c-harris-series-faculty-research-spotlight-featuring-hanne-blank-14635
END:VEVENT

END:VCALENDAR
