BEGIN:VCALENDAR
VERSION:2.0
PRODID:-//ChamberMaster//Event Calendar 2.0//EN
METHOD:PUBLISH
X-PUBLISHED-TTL:P3D
REFRESH-INTERVAL:P3D
CALSCALE:GREGORIAN
BEGIN:VEVENT
DTSTART:20200529T220000Z
DTEND:20200530T000000Z
X-MICROSOFT-CDO-ALLDAYEVENT:FALSE
SUMMARY:Learn To Play Dungeons and Dragons
DESCRIPTION:Adventure awaits you this summer! Learn to play Dungeons and Dragons and join our summer league. During this session\, you'll work with a Dungeon Master to help you set up your character on Roll20.net. You can download and print a character sheet To learn about the different kinds of characters\, visit D&D Beyond. This program is exclusively for rising 7th graders and older. We will meet via Zoom where participants will work in break out rooms with DMs that will help them get started. Registered required. An email with a link to the zoom call will be emailed to you about an hour before the event.
X-ALT-DESC;FMTTYPE=text/html:Adventure awaits you this summer! Learn to play Dungeons and Dragons and join our summer league. During this session\, you&#39\;ll work with a Dungeon Master to help you set up your character on Roll20.net. You can download and print a character sheet To learn about the different kinds of characters\, visit D&amp\;D Beyond. This program is exclusively for rising 7th graders and older. We will meet via Zoom where participants will work in break out rooms with DMs that will help them get started. Registered required. An email with a link to the zoom call will be emailed to you about an hour before the event.
LOCATION:Granville Public Library via Zoom.us
UID:e.180.14497
SEQUENCE:3
DTSTAMP:20260422T113721Z
URL:https://business.granvilleoh.com/events/details/learn-to-play-dungeons-and-dragons-05-29-2020-14497
END:VEVENT

END:VCALENDAR
