BEGIN:VCALENDAR
VERSION:2.0
PRODID:-//ChamberMaster//Event Calendar 2.0//EN
METHOD:PUBLISH
X-PUBLISHED-TTL:P3D
REFRESH-INTERVAL:P3D
CALSCALE:GREGORIAN
BEGIN:VEVENT
DTSTART:20200903T220000Z
DTEND:20200904T000000Z
X-MICROSOFT-CDO-ALLDAYEVENT:FALSE
SUMMARY:Learn to Play Dungeons & Dragons
DESCRIPTION:Join us for an hour-long session to help you set up your character and understand the basics of the game. Sessions begin at 6pm or 7pm. Please plan to attend if you are interested in playing in our fall league and are new to the game. For grades 7-12 and college-aged kids. Register at GranvilleLibrary.org/calendar/month
X-ALT-DESC;FMTTYPE=text/html:Join us for an hour-long session to help you set up your character and understand the basics of the game. Sessions begin at 6pm or 7pm. Please plan to attend if you are interested in playing in our fall league and are new to the game. For grades 7-12 and college-aged kids. Register at GranvilleLibrary.org/calendar/month
LOCATION:Granville Public Library via Zoom
UID:e.180.14576
SEQUENCE:3
DTSTAMP:20260422T060007Z
URL:https://business.granvilleoh.com/events/details/learn-to-play-dungeons-dragons-14576
END:VEVENT

END:VCALENDAR
