BEGIN:VCALENDAR
VERSION:2.0
PRODID:-//ChamberMaster//Event Calendar 2.0//EN
METHOD:PUBLISH
X-PUBLISHED-TTL:P3D
REFRESH-INTERVAL:P3D
CALSCALE:GREGORIAN
BEGIN:VEVENT
DTSTART:20210624T220000Z
DTEND:20210625T000000Z
X-MICROSOFT-CDO-ALLDAYEVENT:FALSE
SUMMARY:Legend of Excalibur Outdoor Escape Room at McPeek Lodge
DESCRIPTION:Is your team destined to remove the famed Excalibur sword from the stone? In this adventure\, two teams will need to solve clues and puzzles to figure out how to win. We will meet at McPeek Lodge. Register at GranvilleLibrary.org/calendar/month For grades 7-12.
X-ALT-DESC;FMTTYPE=text/html:Is your team destined to remove the famed Excalibur sword from the stone? In this adventure\, two teams will need to solve clues and puzzles to figure out how to win. We will meet at McPeek Lodge. Register at GranvilleLibrary.org/calendar/month For grades 7-12.
LOCATION:Granville Public Library
UID:e.180.14820
SEQUENCE:3
DTSTAMP:20260421T181414Z
URL:https://business.granvilleoh.com/events/details/legend-of-excalibur-outdoor-escape-room-at-mcpeek-lodge-14820
END:VEVENT

END:VCALENDAR
