BEGIN:VCALENDAR
VERSION:2.0
PRODID:-//ChamberMaster//Event Calendar 2.0//EN
METHOD:PUBLISH
X-PUBLISHED-TTL:P3D
REFRESH-INTERVAL:P3D
CALSCALE:GREGORIAN
BEGIN:VEVENT
DTSTART:20211202T140000Z
DTEND:20211203T010000Z
X-MICROSOFT-CDO-ALLDAYEVENT:FALSE
SUMMARY:Lego Creation Contest
DESCRIPTION:Show off your brick-laying skills! Enter your original Lego creation in our People's Choice contest. All ages are welcome to enter. Entries must have a base no larger than 12"x12" and will be displayed during the Runaway Reindeer Lego Show on Dec. 4 & 5th. Entries must be delivered to the library by Thursday\, Dec. 2. They must be picked up by Tuesday\, Dec. 7th. The library is not responsible for any lost pieces. Space is limited. Register at GranvilleLibrary.org/calendar/month to reserve a spot for your creation! All ages welcome!
X-ALT-DESC;FMTTYPE=text/html:Show off your brick-laying skills! Enter your original Lego creation in our People&#39\;s Choice contest. All ages are welcome to enter. Entries must have a base no larger than 12&quot\;x12&quot\; and will be displayed during the Runaway Reindeer Lego Show on Dec. 4 &amp\; 5th. Entries must be delivered to the library by Thursday\, Dec. 2. They must be picked up by Tuesday\, Dec. 7th. The library is not responsible for any lost pieces. Space is limited. Register at GranvilleLibrary.org/calendar/month to reserve a spot for your creation! All ages welcome!
LOCATION:Granville Public Library
UID:e.180.16149
SEQUENCE:3
DTSTAMP:20260421T123843Z
URL:https://business.granvilleoh.com/events/details/lego-creation-contest-16149
END:VEVENT

END:VCALENDAR
