BEGIN:VCALENDAR
VERSION:2.0
PRODID:-//ChamberMaster//Event Calendar 2.0//EN
METHOD:PUBLISH
X-PUBLISHED-TTL:P3D
REFRESH-INTERVAL:P3D
CALSCALE:GREGORIAN
BEGIN:VEVENT
DTSTART:20211003T023000Z
DTEND:20211003T033000Z
X-MICROSOFT-CDO-ALLDAYEVENT:FALSE
SUMMARY:Let's Draw Monsters on Zoom
DESCRIPTION:Learn how to draw creatures\, goblins\, and ghosts with nationally syndicated and award-winning cartoonist Rick Stromoski. Grades 3 to 6\, Register at GranvilleLibrary.org/calendar/month
X-ALT-DESC;FMTTYPE=text/html:Learn how to draw creatures\, goblins\, and ghosts with nationally syndicated and award-winning cartoonist Rick Stromoski. Grades 3 to 6\, Register at GranvilleLibrary.org/calendar/month
LOCATION:Granville Public Library via Zoom
UID:e.180.16066
SEQUENCE:3
DTSTAMP:20260421T140140Z
URL:https://business.granvilleoh.com/events/details/let-s-draw-monsters-on-zoom-16066
END:VEVENT

END:VCALENDAR
