BEGIN:VCALENDAR
VERSION:2.0
PRODID:-//ChamberMaster//Event Calendar 2.0//EN
METHOD:PUBLISH
X-PUBLISHED-TTL:P3D
REFRESH-INTERVAL:P3D
CALSCALE:GREGORIAN
BEGIN:VEVENT
DTSTART:20211004T203000Z
DTEND:20211004T211500Z
X-MICROSOFT-CDO-ALLDAYEVENT:FALSE
SUMMARY:Letter to a Monster with Thurber House on Zoom
DESCRIPTION:Miss Meg will help kids compose a letter to one of the monsters staying at the library this October. Registrants will notified when letter-writing supplies are ready to pick-up. Grades K to 3. Register at GranvilleLibrary.org/calendar/month
X-ALT-DESC;FMTTYPE=text/html:Miss Meg will help kids compose a letter to one of the monsters staying at the library this October. Registrants will notified when letter-writing supplies are ready to pick-up. Grades K to 3. Register at GranvilleLibrary.org/calendar/month
LOCATION:Granville Public Library
UID:e.180.16074
SEQUENCE:3
DTSTAMP:20260421T125812Z
URL:https://business.granvilleoh.com/events/details/letter-to-a-monster-with-thurber-house-on-zoom-16074
END:VEVENT

END:VCALENDAR
