BEGIN:VCALENDAR
VERSION:2.0
PRODID:-//ChamberMaster//Event Calendar 2.0//EN
METHOD:PUBLISH
X-PUBLISHED-TTL:P3D
REFRESH-INTERVAL:P3D
CALSCALE:GREGORIAN
BEGIN:VEVENT
DTSTART:20200313T220000Z
DTEND:20200314T000000Z
X-MICROSOFT-CDO-ALLDAYEVENT:FALSE
SUMMARY:Luck of the Draw: Scrabble Tournament
DESCRIPTION:Join us for a casual evening of Scrabble play. We provide the game boards\, you provide the words. We'll have timed rounds and the best players will compete for the title of Ultimate Wordsmith and a pot of gold! OK- not really a pot of gold\, but a fun prize! For grades 7- Adult.
X-ALT-DESC;FMTTYPE=text/html:Join us for a casual evening of Scrabble play. We provide the game boards\, you provide the words. We&#39\;ll have timed rounds and the best players will compete for the title of Ultimate Wordsmith and a pot of gold! OK- not really a pot of gold\, but a fun prize! For grades 7- Adult.
LOCATION:Granville Public Library
UID:e.180.14323
SEQUENCE:3
DTSTAMP:20260422T142851Z
URL:https://business.granvilleoh.com/events/details/luck-of-the-draw-scrabble-tournament-14323
END:VEVENT

END:VCALENDAR
