BEGIN:VCALENDAR
VERSION:2.0
PRODID:-//ChamberMaster//Event Calendar 2.0//EN
METHOD:PUBLISH
X-PUBLISHED-TTL:P3D
REFRESH-INTERVAL:P3D
CALSCALE:GREGORIAN
BEGIN:VEVENT
DTSTART:20200201T080000Z
DTEND:20200201T100000Z
X-MICROSOFT-CDO-ALLDAYEVENT:FALSE
SUMMARY:Lunar New Year Concert
DESCRIPTION:Celebrate Lunar New Year with a concert presented by Denison students.\nLunar New Year has been celebrated in many Asian countries such as China\, Korea\, Vietnam\, etc. for thousands of years. Not only does it embody the ideological beliefs\, wishes\, live entertainment and cultural psychology of those nations\, it is also a carnival display of blessings\, eating\, and entertainment activities.\n\nDenison Lunar New Year series\, hosted by ACC\, DASU and GCC\, this year starts Saturday\, Jan. 25\, with a dinner celebration\, three workshops through the following week and ends with this concert. This concert features wonderful Asian traditional musical instrument performances\, singing performances\, stand-up comedies\, dancing performances and more.\n\nIf you celebrate Lunar New Year\, if you are interested in Asian Cultures\, if you want a family gathering during weekend\, please join us!
X-ALT-DESC;FMTTYPE=text/html:<span style="background-color:transparent\; color:rgb(0\, 0\, 0)\; font-family:arial\; font-size:11pt">Celebrate Lunar New Year with a concert presented by Denison students.</span>\n<p><span style="background-color:transparent\; color:rgb(0\, 0\, 0)\; font-family:arial\; font-size:11pt">Lunar New Year has been celebrated in many Asian countries such as China\, Korea\, Vietnam\, etc. for thousands of years. Not only does it embody the ideological beliefs\, wishes\, live entertainment and cultural psychology of those nations\, it is also a carnival display of blessings\, eating\, and entertainment activities.</span></p>\n\n<p><span style="background-color:transparent\; color:rgb(0\, 0\, 0)\; font-family:arial\; font-size:11pt">Denison Lunar New Year series\, hosted by ACC\, DASU and GCC\, this year starts Saturday\, Jan. 25\, with a dinner celebration\, three workshops through the following week and ends with this concert. This concert features wonderful Asian traditional musical instrument performances\, singing performances\, stand-up comedies\, dancing performances and more.</span></p>\n\n<p><span style="background-color:transparent\; color:rgb(0\, 0\, 0)\; font-family:arial\; font-size:11pt">If you celebrate Lunar New Year\, if you are interested in Asian Cultures\, if you want a family gathering during weekend\, please join us!</span></p>\n\n<div>&nbsp\;</div>\n
LOCATION:Denison University Burke Recital Hall of the Michael D. Eisner Center for the Performing Arts 240 West Broadway
UID:e.180.14082
SEQUENCE:3
DTSTAMP:20260422T160657Z
URL:https://business.granvilleoh.com/events/details/lunar-new-year-concert-14082
END:VEVENT

END:VCALENDAR
