BEGIN:VCALENDAR
VERSION:2.0
PRODID:-//ChamberMaster//Event Calendar 2.0//EN
METHOD:PUBLISH
X-PUBLISHED-TTL:P3D
REFRESH-INTERVAL:P3D
CALSCALE:GREGORIAN
BEGIN:VEVENT
DTSTART:20200703T160000Z
DTEND:20200703T170000Z
X-MICROSOFT-CDO-ALLDAYEVENT:FALSE
SUMMARY:Mad Hatter's Tea Party: Zoom
DESCRIPTION:Dress as a fictional character for this tea time through the looking glass. Zoom-Register to receive login the day of the program at GranvilleLibrary.org All Ages Zoom link will be emailed approximately 25 minutes before the program. Contact Betsy with any questions: bwernert@granvillelibrary
X-ALT-DESC;FMTTYPE=text/html:Dress as a fictional character for this tea time through the looking glass. Zoom-Register to receive login the day of the program at GranvilleLibrary.org All Ages Zoom link will be emailed approximately 25 minutes before the program. Contact Betsy with any questions: bwernert@granvillelibrary
LOCATION:Granville Public Library via Zoom
UID:e.180.14558
SEQUENCE:3
DTSTAMP:20260422T090952Z
URL:https://business.granvilleoh.com/events/details/mad-hatter-s-tea-party-zoom-14558
END:VEVENT

END:VCALENDAR
