BEGIN:VCALENDAR
VERSION:2.0
PRODID:-//ChamberMaster//Event Calendar 2.0//EN
METHOD:PUBLISH
X-PUBLISHED-TTL:P3D
REFRESH-INTERVAL:P3D
CALSCALE:GREGORIAN
BEGIN:VEVENT
DTSTART:20200926T170000Z
DTEND:20200926T173000Z
X-MICROSOFT-CDO-ALLDAYEVENT:FALSE
SUMMARY:Madcap Puppets Live on Zoom
DESCRIPTION:In this interactive program\, interact with a storytelling puppeteer. (All Ages) Register with an email address to receive a Zoom login about an hour before the program.
X-ALT-DESC;FMTTYPE=text/html:In this interactive program\, interact with a storytelling puppeteer. (All Ages) Register with an email address to receive a Zoom login about an hour before the program.
LOCATION:Granville Public Library
UID:e.180.14595
SEQUENCE:3
DTSTAMP:20260422T060033Z
URL:https://business.granvilleoh.com/events/details/madcap-puppets-live-on-zoom-14595
END:VEVENT

END:VCALENDAR
