BEGIN:VCALENDAR
VERSION:2.0
PRODID:-//ChamberMaster//Event Calendar 2.0//EN
METHOD:PUBLISH
X-PUBLISHED-TTL:P3D
REFRESH-INTERVAL:P3D
CALSCALE:GREGORIAN
BEGIN:VEVENT
DTSTART:20200601T180000Z
DTEND:20200601T220000Z
X-MICROSOFT-CDO-ALLDAYEVENT:FALSE
SUMMARY:Make a Fantastical Creature: A Month-Long Contest
DESCRIPTION:Teens\, make your own fantastical creature inspired by literature. Register to pick up a basic supply kit (plaster strips\, pipe cleaners\, balloons\, etc\,). Once registered\, your supply kit may be picked up beginning June 1 during open library hours. Send us a picture of your completed creation for a chance to win a gift card! Email submissions to lcparker@granvillelibrary.org. Kits will be available throughout the month while supplies last. Exclusively for rising 7-12 graders! Register for our Imagine Your Story Teen Summer Library Program online or by downloading the Beanstack app to your phone. Earn chances to win through reading\, attending events\, and completing activities.
X-ALT-DESC;FMTTYPE=text/html:Teens\, make your own fantastical creature inspired by literature. Register to pick up a basic supply kit (plaster strips\, pipe cleaners\, balloons\, etc\,). Once registered\, your supply kit may be picked up beginning June 1 during open library hours. Send us a picture of your completed creation for a chance to win a gift card! Email submissions to lcparker@granvillelibrary.org. Kits will be available throughout the month while supplies last. Exclusively for rising 7-12 graders! Register for our Imagine Your Story Teen Summer Library Program online or by downloading the Beanstack app to your phone. Earn chances to win through reading\, attending events\, and completing activities.
LOCATION:Granville Public Library
UID:e.180.14499
SEQUENCE:3
DTSTAMP:20260422T114135Z
URL:https://business.granvilleoh.com/events/details/make-a-fantastical-creature-a-month-long-contest-14499
END:VEVENT

END:VCALENDAR
