BEGIN:VCALENDAR
VERSION:2.0
PRODID:-//ChamberMaster//Event Calendar 2.0//EN
METHOD:PUBLISH
X-PUBLISHED-TTL:P3D
REFRESH-INTERVAL:P3D
CALSCALE:GREGORIAN
BEGIN:VEVENT
DTSTART:20200619T170000Z
DTEND:20200619T180000Z
X-MICROSOFT-CDO-ALLDAYEVENT:FALSE
SUMMARY:Make-a-long Mug Meals & Jello Slime
DESCRIPTION:Join us to make easy kitchen creations. We will be posting an ingredient list before the program! For kids in grades 7-12.
X-ALT-DESC;FMTTYPE=text/html:Join us to make easy kitchen creations. We will be posting an ingredient list before the program! For kids in grades 7-12.
LOCATION:Granville Public Library via Zoom
UID:e.180.14534
SEQUENCE:3
DTSTAMP:20260422T102211Z
URL:https://business.granvilleoh.com/events/details/make-a-long-mug-meals-jello-slime-14534
END:VEVENT

END:VCALENDAR
