BEGIN:VCALENDAR
VERSION:2.0
PRODID:-//ChamberMaster//Event Calendar 2.0//EN
METHOD:PUBLISH
X-PUBLISHED-TTL:P3D
REFRESH-INTERVAL:P3D
CALSCALE:GREGORIAN
BEGIN:VEVENT
DTSTART:20200204T223000Z
DTEND:20200204T233000Z
X-MICROSOFT-CDO-ALLDAYEVENT:FALSE
SUMMARY:Medicare 101
DESCRIPTION:Are you turning 65\, know someone who is or already on Medicare and confused. This is for you! Learn and understand Medicare. We will review the ABC's of Medicare. This is a casual hour of fun and learning.\n\n\n\nDate: Tuesday\, August 6\n\n\n\nTime: 5:30-6:30pm\n\nLocation: 1400 Tharp Road\, Alexandria\, OH\n\n\n\nSeating is limited\n\n\n\nRSVP Required by calling (740) 967-0210
X-ALT-DESC;FMTTYPE=text/html:<span style="color:rgb(29\, 33\, 41)\; font-family:helvetica\,arial\,sans-serif\; font-size:14px">Are you turning 65\, know someone who is or already on Medicare and confused. This is for you! Learn and understand Medicare. We will review the ABC&rsquo\;s of Medicare. This is a casual hour of fun and learning.</span><br />\n<br />\n<span style="color:rgb(29\, 33\, 41)\; font-family:helvetica\,arial\,sans-serif\; font-size:14px">Date: Tuesday\, August 6</span><br />\n<br />\n<span style="color:rgb(29\, 33\, 41)\; font-family:helvetica\,arial\,sans-serif\; font-size:14px">Time: 5:30-6:30pm<br />\nLocation: 1400 Tharp Road\, Alexandria\, OH</span><br />\n<br />\n<span style="color:rgb(29\, 33\, 41)\; font-family:helvetica\,arial\,sans-serif\; font-size:14px">Seating is limited</span><br />\n<br />\n<span style="color:rgb(29\, 33\, 41)\; font-family:helvetica\,arial\,sans-serif\; font-size:14px">RSVP Required by calling (740) 967-0210</span>
LOCATION:Creekstone Benefits\, LLC 1400 Tharp Rd Alexandria\, OH 43001
UID:e.180.12781
SEQUENCE:3
DTSTAMP:20260422T155645Z
URL:https://business.granvilleoh.com/events/details/medicare-101-02-04-2020-12781
END:VEVENT

END:VCALENDAR
