BEGIN:VCALENDAR
VERSION:2.0
PRODID:-//ChamberMaster//Event Calendar 2.0//EN
METHOD:PUBLISH
X-PUBLISHED-TTL:P3D
REFRESH-INTERVAL:P3D
CALSCALE:GREGORIAN
BEGIN:VEVENT
DTSTART:20200219T163000Z
DTEND:20200219T180000Z
X-MICROSOFT-CDO-ALLDAYEVENT:FALSE
SUMMARY:Member Meeting & Luncheon
DESCRIPTION:Join us at our February Member Meeting & Luncheon to learn everything you wanted to know about Data Analytics - but were afraid to ask.  Mike Brady who is the Associate Director of DU's Data Analytics Program will be with us to provide an overview of how this Program came to be\, explain the curriculum\, and emphasize ways for the community to get involved and collaborate.
X-ALT-DESC;FMTTYPE=text/html:Join us at our February Member Meeting &amp\; Luncheon to learn everything you wanted to know about Data Analytics - but were afraid to ask.&nbsp\; Mike Brady who is the Associate Director of DU&#39\;s Data Analytics Program will be with us to provide an overview of how this Program came to be\, explain the curriculum\, and emphasize ways for the community to get involved and collaborate.
LOCATION:Kendal at Granville The Amelia Room 2158 Columbus Road Granville\, OH 43023
UID:e.180.14288
SEQUENCE:3
DTSTAMP:20260422T160502Z
URL:https://business.granvilleoh.com/events/details/member-meeting-luncheon-14288
END:VEVENT

END:VCALENDAR
