BEGIN:VCALENDAR
VERSION:2.0
PRODID:-//ChamberMaster//Event Calendar 2.0//EN
METHOD:PUBLISH
X-PUBLISHED-TTL:P3D
REFRESH-INTERVAL:P3D
CALSCALE:GREGORIAN
BEGIN:VEVENT
DTSTART:20200318T153000Z
DTEND:20200318T170000Z
X-MICROSOFT-CDO-ALLDAYEVENT:FALSE
SUMMARY:Member Meeting & Luncheon
DESCRIPTION:Join us at our March Monthly Meeting and Luncheon where Granville Village Manager Herb Koehler will provide an overview of Village operations with special emphasis on the planned State Rte. 16/State Rte. 37/ State Rte. 661 Interchange Project (Bridge Replacement) that is scheduled to begin in April.  This project will run from Spring 2020 to the Fall of 2021 with significant implications for traffic flow during phases of this construction. The Village Planning Department will be on hand as well to answer questions and explain some informational tools and resources that will be available to us during this lengthy project.
X-ALT-DESC;FMTTYPE=text/html:<span style="color:#0070C0\;"><span style="font-family:arial\,sans-serif\;"><span style="font-size:12.0pt\;">Join us at our March Monthly Meeting and Luncheon where Granville Village Manager Herb Koehler will provide an overview of Village operations with special emphasis on the planned State Rte. 16/State Rte. 37/ State Rte. 661 Interchange Project (Bridge Replacement) that is scheduled to begin in April.&nbsp\; This project will run from Spring 2020 to the Fall of 2021 with significant implications for traffic flow during phases of this construction.&nbsp\;The Village Planning Department will be on hand as well to answer questions and explain some informational tools and resources that will be available to us during this lengthy project.</span></span></span><br />\n&nbsp\;
LOCATION:RevLocal Building (Lower Level at the Rear of the Building) 4009 Columbus Road Granville\, OH 43023
UID:e.180.14354
SEQUENCE:3
DTSTAMP:20260422T141805Z
URL:https://business.granvilleoh.com/events/details/member-meeting-luncheon-14354
END:VEVENT

END:VCALENDAR
