BEGIN:VCALENDAR
VERSION:2.0
PRODID:-//ChamberMaster//Event Calendar 2.0//EN
METHOD:PUBLISH
X-PUBLISHED-TTL:P3D
REFRESH-INTERVAL:P3D
CALSCALE:GREGORIAN
BEGIN:VEVENT
DTSTART:20210818T153000Z
DTEND:20210818T170000Z
X-MICROSOFT-CDO-ALLDAYEVENT:FALSE
SUMMARY:Member Meeting & Luncheon
DESCRIPTION:Join us for an informative Member Meeting and Luncheon session at the James Bradley Center in the Infirmary Mound Park.  Richard Waugh\, Director of the Licking Park District\, will share updates regarding the Park District and their myriad of programs and activities.  We'll also hear a short presentation and overview of the Ohiolina Music Festival by Chris Koenig\, the Festival's founder.  Ohiolina will take place at Infirmary Mound Park in just a few short weeks on September 17-19.  \n\n\n\nOur luncheon will be catered by Palumbo's Italian Market which is reason enough to register by itself!  Join us!
X-ALT-DESC;FMTTYPE=text/html:Join us for an informative Member Meeting and Luncheon session at the James Bradley Center in the Infirmary Mound Park.&nbsp\; Richard Waugh\, Director of the Licking Park District\, will share updates regarding the Park District and their myriad of programs and activities.&nbsp\; We&#39\;ll also hear a short presentation and overview of the Ohiolina Music Festival by Chris Koenig\, the Festival&#39\;s founder.&nbsp\; Ohiolina will take place at Infirmary Mound Park in just a few short weeks on September 17-19.&nbsp\;&nbsp\;<br />\n<br />\nOur luncheon will be catered by Palumbo&#39\;s Italian Market which is reason enough to register by itself!&nbsp\; Join us!<br />\n&nbsp\;
LOCATION:Infirmary Mound Park James Bradley Center 4351 Lancaster Road Granville\, OH 43023
UID:e.180.16040
SEQUENCE:3
DTSTAMP:20260421T163058Z
URL:https://business.granvilleoh.com/events/details/member-meeting-luncheon-16040
END:VEVENT

END:VCALENDAR
