BEGIN:VCALENDAR
VERSION:2.0
PRODID:-//ChamberMaster//Event Calendar 2.0//EN
METHOD:PUBLISH
X-PUBLISHED-TTL:P3D
REFRESH-INTERVAL:P3D
CALSCALE:GREGORIAN
BEGIN:VEVENT
DTSTART:20211020T153000Z
DTEND:20211020T170000Z
X-MICROSOFT-CDO-ALLDAYEVENT:FALSE
SUMMARY:Member Meeting & Luncheon Achieve Success
DESCRIPTION:Join us and be introduced to the Small Business Development Center (SBDC) in Newark\, Ohio. Meet Anthony Iachini\, our area representative\, to learn about the free business counseling and assistance to individuals who are either starting or growing their business. Each center is staffed with highly-trained\, Certified Business Advisors  (CBA) to help small businesses and entrepreneurs with development and growth to increase sales and create jobs in their local communities.\n\n\n\nWe will also be welcoming Steven Cohen\, our East Central Ohio SCORE consultant\, who will share information on the free\, confidential business counseling offered by SCORE's mentors\, in addition to upcoming workshops and event. \n\nJoin us for an experience in networking where we will gather and share information\, accelerating your business contacts through fun and exciting activities together. We look forward to helping you make connections in the community to help build your business and foster new relationships.
X-ALT-DESC;FMTTYPE=text/html:Join us and be introduced to the Small Business Development Center (SBDC) in Newark\, Ohio. Meet Anthony&nbsp\;Iachini\, our area representative\, to learn about the&nbsp\;free business counseling and assistance to individuals who are either starting or growing their business. Each center is staffed with highly-trained\, Certified Business Advisors&reg\; (CBA) to help small businesses and entrepreneurs with development and growth to increase sales and create jobs in their local communities.<br />\n<br />\nWe will also be welcoming Steven Cohen\, our East Central Ohio SCORE consultant\, who will share information on the free\, confidential business counseling&nbsp\;offered by SCORE&#39\;s mentors\, in addition to upcoming workshops and event.&nbsp\;<br />\nJoin us for an experience in networking where we will gather and share information\, accelerating&nbsp\;your business contacts through fun and exciting activities together. We look forward to helping you make connections in the community to help build your business and foster new relationships.
LOCATION:DoubleTree by Hilton Hotel 50 N 2nd St Newark\, OH 43055
UID:e.180.16100
SEQUENCE:3
DTSTAMP:20260421T125644Z
URL:https://business.granvilleoh.com/events/details/member-meeting-luncheon-achieve-success-16100
END:VEVENT

END:VCALENDAR
