BEGIN:VCALENDAR
VERSION:2.0
PRODID:-//ChamberMaster//Event Calendar 2.0//EN
METHOD:PUBLISH
X-PUBLISHED-TTL:P3D
REFRESH-INTERVAL:P3D
CALSCALE:GREGORIAN
BEGIN:VEVENT
DTSTART:20211117T163000Z
DTEND:20211117T180000Z
X-MICROSOFT-CDO-ALLDAYEVENT:FALSE
SUMMARY:Member Meeting & Luncheon Predicting Success Through Cash Flow
DESCRIPTION:Predicting Success Through Cash Flow\n\n\n\nWhat can you learn from studying your financial statements? Plenty. Learn the difference between profit vs. cash flow\, the controls you should have in place\, and how to effectively position cash flow to support your family\, grow your business\, and assure your future KPIs.\n\n\n\nRandall T. Gerber\n\nFounder & Advisor\, Gerber\, LLC.
X-ALT-DESC;FMTTYPE=text/html:<span style="font-size:24px\;"><span style="font-family:gotham bold\;">Predicting Success Through Cash Flow</span></span><br />\n<br />\n<span style="font-family:arial\,sans-serif\;">What can you learn from studying your financial statements? Plenty. Learn the difference between profit vs. cash flow\, the controls you should have in place\, and how to effectively position cash flow to support your family\, grow your business\, and assure your future KPIs.</span><br />\n<br />\n<span style="font-family: arial\, sans-serif\;">Randall T. Gerber</span><br />\n<span style="font-family: arial\, sans-serif\;">Founder &amp\; Advisor\, Gerber\, LLC</span>.
LOCATION:Bryn Du Mansion 537 Jones Road Granville\, OH 43023
UID:e.180.16128
SEQUENCE:3
DTSTAMP:20260421T112022Z
URL:https://business.granvilleoh.com/events/details/member-meeting-luncheon-predicting-success-through-cash-flow-16128
END:VEVENT

END:VCALENDAR
