BEGIN:VCALENDAR
VERSION:2.0
PRODID:-//ChamberMaster//Event Calendar 2.0//EN
METHOD:PUBLISH
X-PUBLISHED-TTL:P3D
REFRESH-INTERVAL:P3D
CALSCALE:GREGORIAN
BEGIN:VEVENT
DTSTART:20200908T230000Z
DTEND:20200909T010000Z
X-MICROSOFT-CDO-ALLDAYEVENT:FALSE
SUMMARY:‘Midnight Family’ with Director Luke Lorentzen
DESCRIPTION:Narrative Journalism at Denison hosts a showing of the documentary film "Midnight Family\," followed by a Q&A with director and producer Luke Lorentzen at 7 p.m. on Tuesday\, Sept. 8. The public event will take place over Zoom. Guests must register to receive login information and directions for streaming. Register at bit.ly/NJ-and-Luke. For more information email narrativejournalism@denison.edu.\n\nShortlisted for the 2020 Best Documentary Oscar\, "Midnight Family" follows the Ochoa family as they struggle to provide emergency medical services in Mexico City\, where a shortage of government-run ambulances has jeopardized the community.\n\nLorentzen\, an Emmy Award-winning documentary filmmaker\, will host workshops and visit classes throughout the semester as Documentarian-in-Residence. His work as a director and cinematographer includes one of Netflix's most-watched original series\, "Last Chance U."\n\nThe event is funded in part by the Andrew W. Mellon "Writing in Place" initiative and a gift by alumna Sue Douthit O'Donnell.
X-ALT-DESC;FMTTYPE=text/html:<p><span style="background-color:transparent\; color:rgb(0\, 0\, 0)\; font-family:arial\; font-size:11pt">Narrative Journalism at Denison hosts a showing of the documentary film &ldquo\;Midnight Family\,&rdquo\; followed by a Q&amp\;A with director and producer Luke Lorentzen at 7 p.m. on Tuesday\, Sept. 8. The public event will take place over Zoom. Guests must register to receive login information and directions for streaming. Register at <a href="http://bit.ly/NJ-and-Luke" style="color: rgb(17\, 85\, 204)\;" target="_blank">bit.ly/NJ-and-Luke</a>. For more information email </span><a href="mailto:narrativejournalism@denison.edu" style="color: rgb(17\, 85\, 204)\; text-decoration-line: none\;" target="_blank"><span style="color:rgb(0\, 0\, 0)\; font-family:arial\; font-size:11pt">narrativejournalism@denison.edu</span></a><span style="background-color:transparent\; color:rgb(0\, 0\, 0)\; font-family:arial\; font-size:11pt">.</span></p>\n\n<p><span style="background-color:transparent\; color:rgb(0\, 0\, 0)\; font-family:arial\; font-size:11pt">Shortlisted for the 2020 Best Documentary Oscar\, &ldquo\;Midnight Family&rdquo\; follows the Ochoa family as they struggle to provide emergency medical services in Mexico City\, where a shortage of government-run ambulances has jeopardized the community.</span></p>\n\n<p><span style="background-color:transparent\; color:rgb(0\, 0\, 0)\; font-family:arial\; font-size:11pt">Lorentzen\, an Emmy Award-winning documentary filmmaker\, will host workshops and visit classes throughout the semester as Documentarian-in-Residence. His work as a director and cinematographer includes one of Netflix&rsquo\;s most-watched original series\, &ldquo\;Last Chance U.&rdquo\;</span></p>\n\n<p><span style="background-color:transparent\; color:rgb(0\, 0\, 0)\; font-family:arial\; font-size:11pt">The event is funded in part by the Andrew W. Mellon &ldquo\;Writing in Place&rdquo\; initiative and a gift by alumna Sue </span><span style="color:rgb(0\, 0\, 0)\; font-family:arial\; font-size:11pt">Douthit</span><span style="background-color:transparent\; color:rgb(0\, 0\, 0)\; font-family:arial\; font-size:11pt"> O&rsquo\;Donnell.</span></p>\n\n<p>&nbsp\;</p>\n
LOCATION:
UID:e.180.14598
SEQUENCE:3
DTSTAMP:20260422T072404Z
URL:https://business.granvilleoh.com/events/details/midnight-family-with-director-luke-lorentzen-14598
END:VEVENT

END:VCALENDAR
