BEGIN:VCALENDAR
VERSION:2.0
PRODID:-//ChamberMaster//Event Calendar 2.0//EN
METHOD:PUBLISH
X-PUBLISHED-TTL:P3D
REFRESH-INTERVAL:P3D
CALSCALE:GREGORIAN
BEGIN:VEVENT
DTSTART:20200306T210000Z
DTEND:20200306T230000Z
X-MICROSOFT-CDO-ALLDAYEVENT:FALSE
SUMMARY:'Millennial Anxiety: Neo-liberalism\, the Politics of Recognition and Intensive Parenting'
DESCRIPTION:Denison University's Department of Philosophy and the Titus-Hepp Lecture Series welcomes Professor of Philosophy at Grinnell College Johanna Meehan\, presenting "Millennial Anxiety: Neo-liberalism\, the Politics of Recognition and Intensive Parenting."\nStudents attending elite liberal arts colleges have been described as fragile  and coddled\, first by their parents and then by college professors and administrators. Some have attributed this to "helicopter" or "intensive parenting\," arguing that the contemporary market place and the lessening availability of lucrative work prospects has forced parents to cultivate their children's talents in order to assure they will be able to compete for a piece of the ever shrinking economic pie.  While Meehan does think that intensive parenting has become the norm for a certain percentage of the population\, she doesn't think it is driven solely by economic concerns nor does it necessarily lead to students who are strong competitors in the marketplace. Instead\, Meehan believes that the ever increasing rhetoric and reality of neo-liberalism and the relational recognition that drives intensive parenting are fundamentally at odds with one another. The clash between the very different orientations of intensive parenting and neo liberalism lead to contemporary students' increased anxiety and depression.  Meehan argues that the relational needs that intensive parenting recognizes and encourages\, are at odds with the model of homo economicus that contemporary political orientations celebrate. It is this mismatch that explains the current mental health crisis among the young.\n\nMeehan received her Bachelor of Arts from Brandeis University and her Master of Arts and PhD from Boston University and currently holds the McCay-Casady Chair in Humanities at Grinnell College. She writes on feminist\, psychoanalytic\, and Critical theory as well as on the work of Hannah Arendt.
X-ALT-DESC;FMTTYPE=text/html:<span style="background-color:transparent\; color:rgb(0\, 0\, 0)\; font-family:arial\; font-size:11pt">Denison University&rsquo\;s Department of Philosophy and the Titus-Hepp Lecture Series welcomes Professor of Philosophy at Grinnell College Johanna Meehan\, presenting &quot\;Millennial Anxiety: Neo-liberalism\, the Politics of Recognition and Intensive Parenting.&quot\;</span>\n<p><span style="background-color:transparent\; color:rgb(0\, 0\, 0)\; font-family:arial\; font-size:11pt">Students attending elite liberal arts colleges have been described as fragile&nbsp\; and coddled\, first by their parents and then by college professors and administrators. Some have attributed this to &quot\;helicopter&quot\; or &quot\;intensive parenting\,&quot\; arguing that the contemporary market place and the lessening availability of lucrative work prospects has forced parents to cultivate their children&#39\;s talents in order to assure they will be able to compete for a piece of the ever shrinking economic pie.&nbsp\; While Meehan does think that intensive parenting has become the norm for a certain percentage of the population\, she doesn&#39\;t think it is driven solely by economic concerns nor does it necessarily lead to students who are strong competitors in the marketplace. Instead\, Meehan believes that the ever increasing rhetoric and reality of neo-liberalism and the relational recognition that drives intensive parenting are fundamentally at odds with one another. The clash between the very different orientations of intensive parenting and neo liberalism lead to contemporary students&#39\; increased anxiety and depression.&nbsp\; Meehan argues that the relational needs that intensive parenting recognizes and encourages\, are at odds with the model of homo economicus that contemporary political orientations celebrate. It is this mismatch that explains the current mental health crisis among the young.</span></p>\n\n<p><span style="background-color:transparent\; color:rgb(0\, 0\, 0)\; font-family:arial\; font-size:11pt">Meehan received her Bachelor of Arts from Brandeis University and her Master of Arts and PhD from Boston University and currently holds the McCay-Casady Chair in Humanities at Grinnell College. She writes on feminist\, psychoanalytic\, and Critical theory as well as on the work of Hannah Arendt.</span></p>\n\n<div>&nbsp\;</div>\n
LOCATION:Denison University Room 210 of Samson Talbot Hall 350 Ridge Road
UID:e.180.14356
SEQUENCE:3
DTSTAMP:20260422T154745Z
URL:https://business.granvilleoh.com/events/details/millennial-anxiety-neo-liberalism-the-politics-of-recognition-and-intensive-parenting-14356
END:VEVENT

END:VCALENDAR
