BEGIN:VCALENDAR
VERSION:2.0
PRODID:-//ChamberMaster//Event Calendar 2.0//EN
METHOD:PUBLISH
X-PUBLISHED-TTL:P3D
REFRESH-INTERVAL:P3D
CALSCALE:GREGORIAN
BEGIN:VEVENT
DTSTART:20201018T210000Z
DTEND:20201018T220000Z
X-MICROSOFT-CDO-ALLDAYEVENT:FALSE
SUMMARY:Mixed Media via Zoom
DESCRIPTION:Teens\, join us for this social hour to talk about what you are reading and watching. We'll feature some of the latest titles in books\, movies\, and tv that you can reserve during the meeting. Its an open mic style opportunity to recommend books\, movies\, and tv to one another. Register at GranvilleLibrary.org/calendar/month
X-ALT-DESC;FMTTYPE=text/html:Teens\, join us for this social hour to talk about what you are reading and watching. We&#39\;ll feature some of the latest titles in books\, movies\, and tv that you can reserve during the meeting. Its an open mic style opportunity to recommend books\, movies\, and tv to one another. Register at GranvilleLibrary.org/calendar/month
LOCATION:Granville Public Library via Zoom
UID:e.180.14623
SEQUENCE:3
DTSTAMP:20260422T045129Z
URL:https://business.granvilleoh.com/events/details/mixed-media-via-zoom-14623
END:VEVENT

END:VCALENDAR
