BEGIN:VCALENDAR
VERSION:2.0
PRODID:-//ChamberMaster//Event Calendar 2.0//EN
METHOD:PUBLISH
X-PUBLISHED-TTL:P3D
REFRESH-INTERVAL:P3D
CALSCALE:GREGORIAN
BEGIN:VEVENT
DTSTART:20200127T180000Z
DTEND:20200127T190000Z
X-MICROSOFT-CDO-ALLDAYEVENT:FALSE
SUMMARY:MLK keynote ‘Racial Justice and Health’
DESCRIPTION:In celebration of the life and legacy of Martin Luther King Jr.\, Denison University welcomes Deirdre Cooper Owens\, an award-winning historian\, popular public speaker and author to deliver a keynote address titled\, "Racial Justice and Health."\nCooper Owens is The Charles and Linda Wilson Professor in the History of Medicine and Director of the Humanities in Medicine program at the University of Nebraska-Lincoln. She is also an Organization of American Historians' (OAH) Distinguished Lecturer. A popular public speaker\, she has published essays\, book chapters\, and blog pieces on a number of issues that concern African American experiences. Her first book\, "Medical Bondage: Race\, Gender and the Origins of American Gynecology" won the 2018 Darlene Clark Hine Book Award from the OAH as the best book written in African American women's and gender history.\n\nProfessor Cooper Owens is also the Director of the Program in African American History at the Library Company of Philadelphia\, the country's oldest cultural institution. Currently\, she is working on a second book project that examines mental illness during the era of United States slavery and is also writing a popular biography of Harriet Tubman that examines her through the lens of disability. She primarily teaches classes on the history of medicine.
X-ALT-DESC;FMTTYPE=text/html:<span style="background-color:transparent\; color:rgb(0\, 0\, 0)\; font-family:arial\; font-size:11pt">In celebration of the life and legacy of Martin Luther King Jr.\, Denison University welcomes Deirdre Cooper Owens\, an award-winning historian\, popular public speaker and author to deliver a keynote address titled\, &quot\;Racial Justice and Health.&quot\;</span>\n<p><span style="background-color:transparent\; color:rgb(0\, 0\, 0)\; font-family:arial\; font-size:11pt">Cooper Owens is The Charles and Linda Wilson Professor in the History of Medicine and Director of the Humanities in Medicine program at the University of Nebraska-Lincoln. She is also an Organization of American Historians&rsquo\; (OAH) Distinguished Lecturer. A popular public speaker\, she has published essays\, book chapters\, and blog pieces on a number of issues that concern African American experiences. Her first book\, &quot\;Medical Bondage: Race\, Gender and the Origins of American Gynecology&quot\; won the 2018 Darlene Clark Hine Book Award from the OAH as the best book written in African American women&rsquo\;s and gender history.</span></p>\n\n<p><span style="background-color:transparent\; color:rgb(0\, 0\, 0)\; font-family:arial\; font-size:11pt">Professor Cooper Owens is also the Director of the Program in African American History at the Library Company of Philadelphia\, the country&rsquo\;s oldest cultural institution. Currently\, she is working on a second book project that examines mental illness during the era of United States slavery and is also writing a popular biography of Harriet Tubman that examines her through the lens of disability. She primarily teaches classes on the history of medicine.</span></p>\n\n<div>&nbsp\;</div>\n
LOCATION:Denison University Swasey Chapel 200 Chapel Drive
UID:e.180.14033
SEQUENCE:3
DTSTAMP:20260422T171353Z
URL:https://business.granvilleoh.com/events/details/mlk-keynote-racial-justice-and-health-14033
END:VEVENT

END:VCALENDAR
