BEGIN:VCALENDAR
VERSION:2.0
PRODID:-//ChamberMaster//Event Calendar 2.0//EN
METHOD:PUBLISH
X-PUBLISHED-TTL:P3D
REFRESH-INTERVAL:P3D
CALSCALE:GREGORIAN
BEGIN:VEVENT
DTSTART:20211016T150000Z
DTEND:20211016T160000Z
X-MICROSOFT-CDO-ALLDAYEVENT:FALSE
SUMMARY:Monster Avenue
DESCRIPTION:Meet at the Sinnett House driveway to create some spooky drawings!
X-ALT-DESC;FMTTYPE=text/html:Meet at the Sinnett House driveway to create some spooky drawings!
LOCATION:Sinnett House (by Granville Public Library)
UID:e.180.16088
SEQUENCE:3
DTSTAMP:20260421T124731Z
URL:https://business.granvilleoh.com/events/details/monster-avenue-16088
END:VEVENT

END:VCALENDAR
