BEGIN:VCALENDAR
VERSION:2.0
PRODID:-//ChamberMaster//Event Calendar 2.0//EN
METHOD:PUBLISH
X-PUBLISHED-TTL:P3D
REFRESH-INTERVAL:P3D
CALSCALE:GREGORIAN
BEGIN:VEVENT
DTSTART:20210617T230000Z
DTEND:20210618T000000Z
X-MICROSOFT-CDO-ALLDAYEVENT:FALSE
SUMMARY:Monthly Learn to Crochet
DESCRIPTION:New to Crochet? We are too! Join us as we work through basic crochet stitches. Already have the skills? Join us and work on your own crochet projects. But just a warning - we may need your advice! We'll supply the yarn\, you supply the crochet needle! We will meet on the patio behind the Sinnett house. If the weather is uncooperative\, we will meet inside the library. Adults and teens! The Sinnett House patio is located behind the Sinnett House. The Sinnett House is the first house behind the Post Office and across the street from Taco Dan's. The patio can be accessed from the paver walkway behind the library or the Sinnett House driveway.
X-ALT-DESC;FMTTYPE=text/html:New to Crochet? We are too! Join us as we work through basic crochet stitches. Already have the skills? Join us and work on your own crochet projects. But just a warning - we may need your advice! We&#39\;ll supply the yarn\, you supply the crochet needle! We will meet on the patio behind the Sinnett house. If the weather is uncooperative\, we will meet inside the library. Adults and teens! The Sinnett House patio is located behind the Sinnett House. The Sinnett House is the first house behind the Post Office and across the street from Taco Dan&#39\;s. The patio can be accessed from the paver walkway behind the library or the Sinnett House driveway.
LOCATION:Granville Public Library
UID:e.180.14810
SEQUENCE:3
DTSTAMP:20260421T175138Z
URL:https://business.granvilleoh.com/events/details/monthly-learn-to-crochet-14810
END:VEVENT

END:VCALENDAR
