BEGIN:VCALENDAR
VERSION:2.0
PRODID:-//ChamberMaster//Event Calendar 2.0//EN
METHOD:PUBLISH
X-PUBLISHED-TTL:P3D
REFRESH-INTERVAL:P3D
CALSCALE:GREGORIAN
BEGIN:VEVENT
DTSTART:20210115T000000Z
DTEND:20210115T010000Z
X-MICROSOFT-CDO-ALLDAYEVENT:FALSE
SUMMARY:Museum of Bad Art
DESCRIPTION:Museum of Bad Art curator\, Michael Frank\, will highlight several of their collection's treasures. Located in Somerville\, MA\, the Museum of Bad Art collects\, exhibits\, and celebrates art that will be seen in no other venue. Established in 1994\, the museum's mission is to bring the worst art to the widest audiences. Register at GranvilleLibrary.org/calendar/month to receive a link to the zoom presentation about an hour before the program begins.
X-ALT-DESC;FMTTYPE=text/html:Museum of Bad Art curator\, Michael Frank\, will highlight several of their collection&#39\;s treasures. Located in Somerville\, MA\, the Museum of Bad Art collects\, exhibits\, and celebrates art that will be seen in no other venue. Established in 1994\, the museum&#39\;s mission is to bring the worst art to the widest audiences. Register at GranvilleLibrary.org/calendar/month to receive a link to the zoom presentation about an hour before the program begins.
LOCATION:Granville Public Library via Zoom
UID:e.180.14707
SEQUENCE:3
DTSTAMP:20260422T005012Z
URL:https://business.granvilleoh.com/events/details/museum-of-bad-art-14707
END:VEVENT

END:VCALENDAR
