BEGIN:VCALENDAR
VERSION:2.0
PRODID:-//ChamberMaster//Event Calendar 2.0//EN
METHOD:PUBLISH
X-PUBLISHED-TTL:P3D
REFRESH-INTERVAL:P3D
CALSCALE:GREGORIAN
BEGIN:VEVENT
DTSTART:20211110T213000Z
DTEND:20211110T220000Z
X-MICROSOFT-CDO-ALLDAYEVENT:FALSE
SUMMARY:My Funny Family Writing Workshop on Zoom with Thurber House
DESCRIPTION:Miss Meg from Thurber House will help kids write about or draw a funny family story. For grades K-3. Register at GranvilleLibrary.org/calendar/month
X-ALT-DESC;FMTTYPE=text/html:Miss Meg from Thurber House will help kids write about or draw a funny family story. For grades K-3. Register at GranvilleLibrary.org/calendar/month
LOCATION:Granville Public Library
UID:e.180.16107
SEQUENCE:3
DTSTAMP:20260421T112120Z
URL:https://business.granvilleoh.com/events/details/my-funny-family-writing-workshop-on-zoom-with-thurber-house-16107
END:VEVENT

END:VCALENDAR
