BEGIN:VCALENDAR
VERSION:2.0
PRODID:-//ChamberMaster//Event Calendar 2.0//EN
METHOD:PUBLISH
X-PUBLISHED-TTL:P3D
REFRESH-INTERVAL:P3D
CALSCALE:GREGORIAN
BEGIN:VEVENT
DTSTART:20201023T220000Z
DTEND:20201023T233000Z
X-MICROSOFT-CDO-ALLDAYEVENT:FALSE
SUMMARY:Needle Felted Spider for Teens
DESCRIPTION:Teens in Grades 7-12 are invited to join us on Zoom to craft this cute needle felted spider. Register by noon on October 21 to reserve your supply kit. Space is limited. To register\, go to www.GranvilleLibrary.org/calendar/month.
X-ALT-DESC;FMTTYPE=text/html:Teens in Grades 7-12 are invited to join us on Zoom to craft this cute needle felted spider. Register by noon on October 21 to reserve your supply kit. Space is limited. To register\, go to www.GranvilleLibrary.org/calendar/month.
LOCATION:Granville Public Library via Zoom
UID:e.180.14625
SEQUENCE:3
DTSTAMP:20260422T055501Z
URL:https://business.granvilleoh.com/events/details/needle-felted-spider-for-teens-14625
END:VEVENT

END:VCALENDAR
