BEGIN:VCALENDAR
VERSION:2.0
PRODID:-//ChamberMaster//Event Calendar 2.0//EN
METHOD:PUBLISH
X-PUBLISHED-TTL:P3D
REFRESH-INTERVAL:P3D
CALSCALE:GREGORIAN
BEGIN:VEVENT
DTSTART:20210721T230000Z
DTEND:20210722T000000Z
X-MICROSOFT-CDO-ALLDAYEVENT:FALSE
SUMMARY:Not Your Mother's Book Club: "Dear Edward"
DESCRIPTION:Bringing together twenty-somethings one book at a time! Join us on the Sinnett Patio to discuss Ann Napolitano's Dear Edward. Copies are available at our main desk. This title can also be downloaded from Libby. If the weather is uncooperative we will meet in the library. For young adults in their 20s. Register at GranvilleLibrary.org/calendar/month
X-ALT-DESC;FMTTYPE=text/html:Bringing together twenty-somethings one book at a time! Join us on the Sinnett Patio to discuss Ann Napolitano&#39\;s Dear Edward. Copies are available at our main desk. This title can also be downloaded from Libby. If the weather is uncooperative we will meet in the library. For young adults in their 20s. Register at GranvilleLibrary.org/calendar/month
LOCATION:Granville Public Library Sinnett House
UID:e.180.14817
SEQUENCE:3
DTSTAMP:20260421T163336Z
URL:https://business.granvilleoh.com/events/details/not-your-mother-s-book-club-dear-edward-14817
END:VEVENT

END:VCALENDAR
