BEGIN:VCALENDAR
VERSION:2.0
PRODID:-//ChamberMaster//Event Calendar 2.0//EN
METHOD:PUBLISH
X-PUBLISHED-TTL:P3D
REFRESH-INTERVAL:P3D
CALSCALE:GREGORIAN
BEGIN:VEVENT
DTSTART:20210616T230000Z
DTEND:20210617T000000Z
X-MICROSOFT-CDO-ALLDAYEVENT:FALSE
SUMMARY:Not Your Mother's Book Club: "White Ivy"
DESCRIPTION:Bringing together twenty-somethings one book at a time! Join us on the Sinnett Patio to discuss Susie Yang's White Ivy. Copies are available at our main desk and this title is also available to download from Libby. If the weather is uncooperative we will meet in the library. For young adults in their 20s. The Sinnett House patio is located behind the Sinnett House. The Sinnett House is the first house behind the Post Office and across the street from Taco Dan's. The patio can be accessed from the paver walkway behind the library or the Sinnett House driveway.
X-ALT-DESC;FMTTYPE=text/html:Bringing together twenty-somethings one book at a time! Join us on the Sinnett Patio to discuss Susie Yang&#39\;s White Ivy. Copies are available at our main desk and this title is also available to download from Libby. If the weather is uncooperative we will meet in the library. For young adults in their 20s. The Sinnett House patio is located behind the Sinnett House. The Sinnett House is the first house behind the Post Office and across the street from Taco Dan&#39\;s. The patio can be accessed from the paver walkway behind the library or the Sinnett House driveway.
LOCATION:Granville Public Library Sinnett House Patio
UID:e.180.14808
SEQUENCE:3
DTSTAMP:20260421T192328Z
URL:https://business.granvilleoh.com/events/details/not-your-mother-s-book-club-white-ivy-14808
END:VEVENT

END:VCALENDAR
